BEGIN:VCALENDAR
VERSION:2.0
BEGIN:VEVENT
PRODID:-//EventsAdmin//EN
UID:0a0ccfb5-25e4-42d2-a597-6b9085cd7eff@eventsadmin.com
DTSTAMP:20260421T085823Z
TRANSP:TRANSPARENT
DTSTART:20260422T183000
DTEND:20260422T200000
SUMMARY;ENCODING=QUOTED-PRINTABLE:IL MEDICO CHE VORREI
LOCATION;ENCODING=QUOTED-PRINTABLE:Fondazione Zoé, Corso Palladio 36, Vicenza
DESCRIPTION;ENCODING=QUOTED-PRINTABLE:Che qualità dovrebbe possedere chi si prende cura della nostra salute? E cosa può fare il paziente per costruire un rapporto di fiducia con chi lo cura?Claudio Ronco, medico con oltre cinquant’anni di esperienza, si mette nei panni del paziente per esplorare il legame unico tra curante e curato. Tra empatia e scienza, tra dovere e missione, analizzeremo le sfide e le responsabilità di chi veste il camice bianco, senza tralasciare le difficoltà e le aspettative di chi si affida alle cure.Perché la medicina
END:VEVENT
END:VCALENDAR
